BEGIN:VCALENDAR
VERSION:2.0
PRODID:-//Global Dynamic Systems (GDS) Engineering R&amp;D - ECPv6.15.12.2//NONSGML v1.0//EN
CALSCALE:GREGORIAN
METHOD:PUBLISH
X-ORIGINAL-URL:https://www.globaldynamicsystems.com
X-WR-CALDESC:Events for Global Dynamic Systems (GDS) Engineering R&amp;D
REFRESH-INTERVAL;VALUE=DURATION:PT1H
X-Robots-Tag:noindex
X-PUBLISHED-TTL:PT1H
BEGIN:VTIMEZONE
TZID:UTC
BEGIN:STANDARD
TZOFFSETFROM:+0000
TZOFFSETTO:+0000
TZNAME:UTC
DTSTART:20220101T000000
END:STANDARD
END:VTIMEZONE
BEGIN:VEVENT
DTSTART;TZID=UTC:20230317T080000
DTEND;TZID=UTC:20230319T120000
DTSTAMP:20260421T132316
CREATED:20221229T105226Z
LAST-MODIFIED:20221229T120845Z
UID:4264-1679040000-1679227200@www.globaldynamicsystems.com
SUMMARY:RTCA-DO-160G: Training on Testing of Airborne Equipment and Certification Process | Online/Live | International (EN)
DESCRIPTION:RTCA-DO-160G: Training on Environmental and EMI/EMC Testing of Airborne Equipment and Certification Process (FAA/EASA) [Online/Live | International]\n\n\n\nTwo and a Half Days Online/Live International Training17-19 March 2023 | Cost: USD760.00\n\n\n\n\n\n\n\n\n\nTraining Summary Information\n\n\n\nTraining Content Details: Click to Display RTCA-DO-160 Training Contents Page  \n\n\n\n\n\nTraining Schedule and Execution Type\n\n\nTraining Type: International / Online\nSatus: Seats are avaiable now.\nOnline training using ZOOM.\nLed by a live\, U.S. based instructor (Dr Ismail Cicek) (PDF) (Download PDF)\nA usual 2.5 days of training schedule is as follows:\n\n\n\n1st Day: 09:00 – 13:00\n\n\n\n\n2nd Day: 09:00 – 17:00 (Lunch Break between 12:30 and 13:30)\n3rd Day: 09:00 – 17:00 (Lunch Break between 12:30 and 13:30)\nTime zone: Central Daylight Time (US CDT\, UTC-5)\n\n\nEnding time may vary+/-30 minutes depending on the length of the discussions.\nCourse Material: English\nComm. Language: English\nMaterial: Registration includes all presentations and additional material (English) shared before the class.\nAttandance: The link for online class is distributed to registered trainees upon registration.\nAttendees will receive a Training Certificate.\nTraining includes knowledge check quizzes\, a competition type fun way or learning.\n\n\n\n\n\n\n\n\nAbout the Instructors\nThe main instructor of the training is Dr Ismail Cicek. An Avionics Chief Engineer (EE) who is also a Certified Verification Engineer (FAA/EASA) also assists the trainings. Our experienced test personnel also becomes avialable for demonstrations and discussions. \n\n\n\nA Certified Verification Engineer (CVE) iaw FAA/EASA and with 18 years of experience. He has worked as the avionics systems chief engineer in product development of avionics systems. He is also experienced in the product testing per environmental and EMI/EMC standards and FAA/EASA certification processes.  \n\n\n\nOur experienced personnel also support our training programs. They are actively participating in the environmental testing of products. \n\n\n\nDr. Ismail Cicek studied PhD in Mechanical Engineering Department at Texas Tech University in Texas\, USA. He study included random vibration. He has both industrial and academic experience for over 30 years.He gained engineering and leadership experience by working in the United States Department of Defence projects and programs as systems development engineer for 15 years. He led the development of various engineering systems for platforms including C-5\, C-17\, KC-10\, KC-135\, and C-130 E/H/J.  Dr. Cicek’s experience includes unmanned aerial vehicle development where he utilized the Geographical Information Systems (GIS) and Malfunction Data Recorder Analysis Recorder System (MADARS) development for military transport aircraft.  Dr Cicek worked as the lab chief engineer for five years at the US Air Force Aeromedical Test Lab at WPAFB\, OH. He received many important awards at the positions he served\, due to the excellent team-work and his detail oriented and energetic personality.  These included Terra Health’s Superior Client Award in 2009 and Engineering Excellence Award in 2010 as well as an appreciation letter from the US Air Force Aeronautical Systems Center (ASC)\, signed by the commander in charge. \n\n\n\nDr Cicek also established a test lab\, called Marine Equipment Test Center (METC)  and located  at Istanbul Technical University\, Tuzla Campus\, for testing of equipment per military and civilian standards\, such as RTCA-DO-160. Providing engineering\, consultancy\, and training services to many companies and organizations\, Dr. Cicek has   gained a  great insight into the tailoring of standard test methods in accordance with military standards\, guides\, and handbooks as well as Life Cycle Environmental Profile LCEP) developed for the equipment under test.Dr. Cicek also completed various product and research projects\, funded in the USA\, EU\, and Turkey. He is currently teaching at Istanbul Technical University Maritime Faculty\, Tuzla/Istanbul. He is the founding manager of the METC in Tuzla Campus of ITU. Meanwhile\, he provided engineering services\, consultancies\, and training to many organizations for product development\, engineering research studies such a algorith development\, test requirements development\, and test plans and executions.Dr Cicek worked as the Principle Investigator and became a Subject Matter Expert (SME) at the US Air Force Aeromedical Test Lab (WPAFB/OH) for certifying the products to the US Air Force Platform Requirements. He also developed Joint Enroute Care Equipment Test Standard (JECETS) in close work with US Army Test Lab engineers and managers.Read DAU Paper: “A New Process for the Acceleration Test and Evaluation of Aeromedical Equipment for U.S. Air Force Safe-To-Fly Certification”. Click to display this report.Connect with Dr Ismail Cicek: Linkedin Page \n\n\n\nClick here to read more about Dr Cicek’s professional studies.  \n\n\n\n\n\n\n Training Registration Request Form \n\n\n\nPlease fill out the following form for asking your question or with a registration request. Thank you for your interest in our training programs. \n\n\n[contact-form-7 id=”7c573b2″ title=”Training Request Form 1″]
URL:https://www.globaldynamicsystems.com/event/rtca-do-160g-training-on-testing-of-airborne-equipment-and-certification-process-2/
CATEGORIES:RTCA-DO-160G Training,Sistem Mühendisliği Ürün Test ve Doğrulama Eğitimleri,Systems Engineering Training Courses,Systems Engineering V&V Training Courses (Open)
END:VEVENT
END:VCALENDAR